Package: biodbNcbi Version: 1.11.0 Command: /home/biocbuild/bbs-3.21-bioc/R/bin/R CMD check --test-dir=longtests --no-stop-on-test-error --no-codoc --no-examples --no-manual --ignore-vignettes --check-subdirs=no biodbNcbi_1.11.0.tar.gz StartedAt: 2025-02-08 16:03:25 -0500 (Sat, 08 Feb 2025) EndedAt: 2025-02-08 16:04:08 -0500 (Sat, 08 Feb 2025) EllapsedTime: 43.0 seconds RetCode: 1 Status: ERROR CheckDir: biodbNcbi.Rcheck Warnings: NA