Package: biodbNcbi Version: 1.11.0 Command: E:\biocbuild\bbs-3.21-bioc\R\bin\R.exe CMD check --no-multiarch --test-dir=longtests --no-stop-on-test-error --no-codoc --no-examples --no-manual --ignore-vignettes --check-subdirs=no biodbNcbi_1.11.0.tar.gz StartedAt: 2025-02-08 16:03:05 -0500 (Sat, 08 Feb 2025) EndedAt: 2025-02-08 16:05:38 -0500 (Sat, 08 Feb 2025) EllapsedTime: 153.3 seconds RetCode: 0 Status: WARNINGS CheckDir: biodbNcbi.Rcheck Warnings: 1