Package: biodbNci Version: 1.11.0 Command: /Library/Frameworks/R.framework/Resources/bin/R CMD check --test-dir=longtests --no-stop-on-test-error --no-codoc --no-examples --no-manual --ignore-vignettes --check-subdirs=no biodbNci_1.11.0.tar.gz StartedAt: 2025-02-01 16:01:04 -0500 (Sat, 01 Feb 2025) EndedAt: 2025-02-01 16:23:48 -0500 (Sat, 01 Feb 2025) EllapsedTime: 1363.9 seconds RetCode: 0 Status: OK CheckDir: biodbNci.Rcheck Warnings: 0