Package: biodbNci Version: 1.11.0 Command: /home/biocbuild/bbs-3.21-bioc/R/bin/R CMD check --test-dir=longtests --no-stop-on-test-error --no-codoc --no-examples --no-manual --ignore-vignettes --check-subdirs=no biodbNci_1.11.0.tar.gz StartedAt: 2025-02-01 16:04:34 -0500 (Sat, 01 Feb 2025) EndedAt: 2025-02-01 16:17:08 -0500 (Sat, 01 Feb 2025) EllapsedTime: 754.4 seconds RetCode: 0 Status: OK CheckDir: biodbNci.Rcheck Warnings: 0