Package: clusterExperiment Version: 2.27.0 Command: E:\biocbuild\bbs-3.21-bioc\R\bin\R.exe CMD check --no-multiarch --test-dir=longtests --no-stop-on-test-error --no-codoc --no-examples --no-manual --ignore-vignettes --check-subdirs=no clusterExperiment_2.27.0.tar.gz StartedAt: 2025-02-08 16:06:57 -0500 (Sat, 08 Feb 2025) EndedAt: 2025-02-08 16:23:27 -0500 (Sat, 08 Feb 2025) EllapsedTime: 989.7 seconds RetCode: 1 Status: ERROR CheckDir: clusterExperiment.Rcheck Warnings: NA