Package: midasHLA Version: 1.15.0 Command: /home/biocbuild/bbs-3.21-bioc/R/bin/R CMD check --test-dir=longtests --no-stop-on-test-error --no-codoc --no-examples --no-manual --ignore-vignettes --check-subdirs=no midasHLA_1.15.0.tar.gz StartedAt: 2025-02-01 16:20:24 -0500 (Sat, 01 Feb 2025) EndedAt: 2025-02-01 16:23:17 -0500 (Sat, 01 Feb 2025) EllapsedTime: 173.1 seconds RetCode: 1 Status: ERROR CheckDir: midasHLA.Rcheck Warnings: NA