Package: xcms Version: 4.5.2 Command: E:\biocbuild\bbs-3.21-bioc\R\bin\R.exe CMD check --no-multiarch --test-dir=longtests --no-stop-on-test-error --no-codoc --no-examples --no-manual --ignore-vignettes --check-subdirs=no xcms_4.5.2.tar.gz StartedAt: 2025-02-08 16:35:55 -0500 (Sat, 08 Feb 2025) EndedAt: 2025-02-08 16:43:41 -0500 (Sat, 08 Feb 2025) EllapsedTime: 465.4 seconds RetCode: 1 Status: ERROR CheckDir: xcms.Rcheck Warnings: NA