Package: AnnotationHubData Version: 1.37.0 Command: /home/rapidbuild/bbs-3.21-bioc-rapid/R/bin/R CMD INSTALL AnnotationHubData StartedAt: 2025-02-04 12:24:42 -0500 (Tue, 04 Feb 2025) EndedAt: 2025-02-04 12:25:18 -0500 (Tue, 04 Feb 2025) EllapsedTime: 35.8 seconds RetCode: 0 Status: OK