Package: BiocNeighbors Version: 2.1.2 Command: /home/rapidbuild/bbs-3.21-bioc-rapid/R/bin/R CMD build --keep-empty-dirs --no-resave-data BiocNeighbors StartedAt: 2025-02-10 06:37:55 -0500 (Mon, 10 Feb 2025) EndedAt: 2025-02-10 06:38:54 -0500 (Mon, 10 Feb 2025) EllapsedTime: 59.6 seconds RetCode: 0 Status: OK PackageFile: BiocNeighbors_2.1.2.tar.gz PackageFileSize: 328.7 KiB