Package: BiocNeighbors Version: 2.1.2 Command: /home/rapidbuild/bbs-3.21-bioc-rapid/R/bin/R CMD check --install=check:BiocNeighbors.install-out.txt --library=/home/rapidbuild/bbs-3.21-bioc-rapid/R/site-library --timings BiocNeighbors_2.1.2.tar.gz StartedAt: 2025-02-10 08:06:47 -0500 (Mon, 10 Feb 2025) EndedAt: 2025-02-10 08:07:44 -0500 (Mon, 10 Feb 2025) EllapsedTime: 57.0 seconds RetCode: 0 Status: OK CheckDir: BiocNeighbors.Rcheck Warnings: 0