Package: BiocNeighbors Version: 2.1.2 Command: /home/rapidbuild/bbs-3.21-bioc-rapid/R/bin/R CMD INSTALL BiocNeighbors StartedAt: 2025-02-10 06:06:47 -0500 (Mon, 10 Feb 2025) EndedAt: 2025-02-10 06:07:37 -0500 (Mon, 10 Feb 2025) EllapsedTime: 50.0 seconds RetCode: 0 Status: OK