Package: DECIPHER Version: 3.3.2 Command: /home/rapidbuild/bbs-3.21-bioc-rapid/R/bin/R CMD check --install=check:DECIPHER.install-out.txt --library=/home/rapidbuild/bbs-3.21-bioc-rapid/R/site-library --timings DECIPHER_3.3.2.tar.gz StartedAt: 2025-02-13 14:00:54 -0500 (Thu, 13 Feb 2025) EndedAt: 2025-02-13 14:24:01 -0500 (Thu, 13 Feb 2025) EllapsedTime: 1387.3 seconds RetCode: 0 Status: OK CheckDir: DECIPHER.Rcheck Warnings: 0