Package: DECIPHER Version: 3.3.2 Command: /home/rapidbuild/bbs-3.21-bioc-rapid/R/bin/R CMD INSTALL DECIPHER StartedAt: 2025-02-13 12:25:48 -0500 (Thu, 13 Feb 2025) EndedAt: 2025-02-13 12:26:32 -0500 (Thu, 13 Feb 2025) EllapsedTime: 44.0 seconds RetCode: 0 Status: OK