Package: ROC Version: 1.83.0 Command: /home/rapidbuild/bbs-3.21-bioc-rapid/R/bin/R CMD INSTALL ROC StartedAt: 2025-02-10 06:15:56 -0500 (Mon, 10 Feb 2025) EndedAt: 2025-02-10 06:15:59 -0500 (Mon, 10 Feb 2025) EllapsedTime: 3.0 seconds RetCode: 0 Status: OK