Package: Spectra Version: 1.17.5 Command: /home/rapidbuild/bbs-3.21-bioc-rapid/R/bin/R CMD check --install=check:Spectra.install-out.txt --library=/home/rapidbuild/bbs-3.21-bioc-rapid/R/site-library --timings Spectra_1.17.5.tar.gz StartedAt: 2025-02-10 09:38:09 -0500 (Mon, 10 Feb 2025) EndedAt: 2025-02-10 09:45:12 -0500 (Mon, 10 Feb 2025) EllapsedTime: 422.9 seconds RetCode: 0 Status: OK CheckDir: Spectra.Rcheck Warnings: 0