Package: XVector Version: 0.47.2 Command: /home/rapidbuild/bbs-3.21-bioc-rapid/R/bin/R CMD build --keep-empty-dirs --no-resave-data XVector StartedAt: 2025-02-13 13:35:58 -0500 (Thu, 13 Feb 2025) EndedAt: 2025-02-13 13:35:59 -0500 (Thu, 13 Feb 2025) EllapsedTime: 1.0 seconds RetCode: 0 Status: OK PackageFile: XVector_0.47.2.tar.gz PackageFileSize: 66.35 KiB