Package: XVector Version: 0.47.2 Command: /home/rapidbuild/bbs-3.21-bioc-rapid/R/bin/R CMD INSTALL XVector StartedAt: 2025-02-10 06:13:41 -0500 (Mon, 10 Feb 2025) EndedAt: 2025-02-10 06:13:54 -0500 (Mon, 10 Feb 2025) EllapsedTime: 12.9 seconds RetCode: 0 Status: OK