Package: affy Version: 1.85.1 Command: /home/rapidbuild/bbs-3.21-bioc-rapid/R/bin/R CMD check --install=check:affy.install-out.txt --library=/home/rapidbuild/bbs-3.21-bioc-rapid/R/site-library --timings affy_1.85.1.tar.gz StartedAt: 2025-02-10 07:52:19 -0500 (Mon, 10 Feb 2025) EndedAt: 2025-02-10 07:54:31 -0500 (Mon, 10 Feb 2025) EllapsedTime: 131.7 seconds RetCode: 0 Status: WARNINGS CheckDir: affy.Rcheck Warnings: 1