Package: affy Version: 1.85.1 Command: /home/rapidbuild/bbs-3.21-bioc-rapid/R/bin/R CMD INSTALL affy StartedAt: 2025-02-05 06:09:48 -0500 (Wed, 05 Feb 2025) EndedAt: 2025-02-05 06:09:56 -0500 (Wed, 05 Feb 2025) EllapsedTime: 8.0 seconds RetCode: 0 Status: OK