Package: beachmat Version: 2.23.6 Command: /home/rapidbuild/bbs-3.21-bioc-rapid/R/bin/R CMD build --keep-empty-dirs --no-resave-data beachmat StartedAt: 2025-02-10 06:35:26 -0500 (Mon, 10 Feb 2025) EndedAt: 2025-02-10 06:39:54 -0500 (Mon, 10 Feb 2025) EllapsedTime: 267.7 seconds RetCode: 0 Status: OK PackageFile: beachmat_2.23.6.tar.gz PackageFileSize: 368.6 KiB