Package: beachmat Version: 2.23.6 Command: /home/rapidbuild/bbs-3.21-bioc-rapid/R/bin/R CMD INSTALL beachmat StartedAt: 2025-02-13 12:14:07 -0500 (Thu, 13 Feb 2025) EndedAt: 2025-02-13 12:18:04 -0500 (Thu, 13 Feb 2025) EllapsedTime: 236.6 seconds RetCode: 0 Status: OK