Package: biovizBase Version: 1.55.0 Command: /home/rapidbuild/bbs-3.21-bioc-rapid/R/bin/R CMD check --install=check:biovizBase.install-out.txt --library=/home/rapidbuild/bbs-3.21-bioc-rapid/R/site-library --timings biovizBase_1.55.0.tar.gz StartedAt: 2025-02-13 13:53:34 -0500 (Thu, 13 Feb 2025) EndedAt: 2025-02-13 13:58:30 -0500 (Thu, 13 Feb 2025) EllapsedTime: 295.6 seconds RetCode: 0 Status: WARNINGS CheckDir: biovizBase.Rcheck Warnings: 2