Package: biovizBase Version: 1.55.0 Command: /home/rapidbuild/bbs-3.21-bioc-rapid/R/bin/R CMD INSTALL biovizBase StartedAt: 2025-02-10 06:27:50 -0500 (Mon, 10 Feb 2025) EndedAt: 2025-02-10 06:28:30 -0500 (Mon, 10 Feb 2025) EllapsedTime: 39.5 seconds RetCode: 0 Status: OK