Package: edgeR Version: 4.5.2 Command: /home/rapidbuild/bbs-3.21-bioc-rapid/R/bin/R CMD check --install=check:edgeR.install-out.txt --library=/home/rapidbuild/bbs-3.21-bioc-rapid/R/site-library --timings edgeR_4.5.2.tar.gz StartedAt: 2025-02-04 14:13:50 -0500 (Tue, 04 Feb 2025) EndedAt: 2025-02-04 14:14:48 -0500 (Tue, 04 Feb 2025) EllapsedTime: 58.6 seconds RetCode: 0 Status: OK CheckDir: edgeR.Rcheck Warnings: 0