Package: ggtree Version: 3.15.0 Command: /home/rapidbuild/bbs-3.21-bioc-rapid/R/bin/R CMD INSTALL ggtree StartedAt: 2025-02-13 12:16:20 -0500 (Thu, 13 Feb 2025) EndedAt: 2025-02-13 12:16:27 -0500 (Thu, 13 Feb 2025) EllapsedTime: 7.4 seconds RetCode: 0 Status: OK