Package: h5mread Version: 0.99.4 Command: /home/rapidbuild/bbs-3.21-bioc-rapid/R/bin/R CMD INSTALL h5mread StartedAt: 2025-02-10 06:14:29 -0500 (Mon, 10 Feb 2025) EndedAt: 2025-02-10 06:14:48 -0500 (Mon, 10 Feb 2025) EllapsedTime: 19.5 seconds RetCode: 0 Status: OK