Package: maftools Version: 2.23.0 Command: /home/rapidbuild/bbs-3.21-bioc-rapid/R/bin/R CMD build --keep-empty-dirs --no-resave-data maftools StartedAt: 2025-02-10 07:11:36 -0500 (Mon, 10 Feb 2025) EndedAt: 2025-02-10 07:14:18 -0500 (Mon, 10 Feb 2025) EllapsedTime: 162.0 seconds RetCode: 0 Status: OK PackageFile: maftools_2.23.0.tar.gz PackageFileSize: 11.89 MiB