Package: maftools Version: 2.23.0 Command: /home/rapidbuild/bbs-3.21-bioc-rapid/R/bin/R CMD check --install=check:maftools.install-out.txt --library=/home/rapidbuild/bbs-3.21-bioc-rapid/R/site-library --timings maftools_2.23.0.tar.gz StartedAt: 2025-02-10 09:06:11 -0500 (Mon, 10 Feb 2025) EndedAt: 2025-02-10 09:11:35 -0500 (Mon, 10 Feb 2025) EllapsedTime: 323.8 seconds RetCode: 0 Status: WARNINGS CheckDir: maftools.Rcheck Warnings: 1