Package: maftools Version: 2.23.0 Command: /home/rapidbuild/bbs-3.21-bioc-rapid/R/bin/R CMD INSTALL maftools StartedAt: 2025-02-10 06:16:27 -0500 (Mon, 10 Feb 2025) EndedAt: 2025-02-10 06:16:40 -0500 (Mon, 10 Feb 2025) EllapsedTime: 13.4 seconds RetCode: 0 Status: OK