Package: rhdf5 Version: 2.51.2 Command: /home/rapidbuild/bbs-3.21-bioc-rapid/R/bin/R CMD build --keep-empty-dirs --no-resave-data rhdf5 StartedAt: 2025-02-10 07:29:45 -0500 (Mon, 10 Feb 2025) EndedAt: 2025-02-10 07:34:17 -0500 (Mon, 10 Feb 2025) EllapsedTime: 272.5 seconds RetCode: 1 Status: ERROR PackageFile: None PackageFileSize: NA