Package: rtracklayer Version: 1.67.0 Command: /home/rapidbuild/bbs-3.21-bioc-rapid/R/bin/R CMD check --install=check:rtracklayer.install-out.txt --library=/home/rapidbuild/bbs-3.21-bioc-rapid/R/site-library --timings rtracklayer_1.67.0.tar.gz StartedAt: 2025-02-10 09:26:01 -0500 (Mon, 10 Feb 2025) EndedAt: 2025-02-10 09:31:02 -0500 (Mon, 10 Feb 2025) EllapsedTime: 300.9 seconds RetCode: 0 Status: WARNINGS CheckDir: rtracklayer.Rcheck Warnings: 5