Package: scater Version: 1.35.1 Command: /home/rapidbuild/bbs-3.21-bioc-rapid/R/bin/R CMD check --install=check:scater.install-out.txt --library=/home/rapidbuild/bbs-3.21-bioc-rapid/R/site-library --timings scater_1.35.1.tar.gz StartedAt: 2025-02-10 09:28:24 -0500 (Mon, 10 Feb 2025) EndedAt: 2025-02-10 09:36:08 -0500 (Mon, 10 Feb 2025) EllapsedTime: 463.6 seconds RetCode: 0 Status: OK CheckDir: scater.Rcheck Warnings: 0