Package: scater Version: 1.35.1 Command: /home/rapidbuild/bbs-3.21-bioc-rapid/R/bin/R CMD INSTALL scater StartedAt: 2025-02-04 12:20:44 -0500 (Tue, 04 Feb 2025) EndedAt: 2025-02-04 12:21:08 -0500 (Tue, 04 Feb 2025) EllapsedTime: 24.4 seconds RetCode: 0 Status: OK