Package: sesame Version: 1.25.3 Command: /home/rapidbuild/bbs-3.21-bioc-rapid/R/bin/R CMD check --install=check:sesame.install-out.txt --library=/home/rapidbuild/bbs-3.21-bioc-rapid/R/site-library --timings sesame_1.25.3.tar.gz StartedAt: 2025-02-10 09:31:35 -0500 (Mon, 10 Feb 2025) EndedAt: 2025-02-10 09:45:11 -0500 (Mon, 10 Feb 2025) EllapsedTime: 816.1 seconds RetCode: 1 Status: ERROR CheckDir: sesame.Rcheck Warnings: NA