Package: sesame Version: 1.25.3 Command: /home/rapidbuild/bbs-3.21-bioc-rapid/R/bin/R CMD INSTALL sesame StartedAt: 2025-02-10 06:22:15 -0500 (Mon, 10 Feb 2025) EndedAt: 2025-02-10 06:22:45 -0500 (Mon, 10 Feb 2025) EllapsedTime: 30.4 seconds RetCode: 0 Status: OK