Package: widgetTools Version: 1.85.0 Command: /home/rapidbuild/bbs-3.21-bioc-rapid/R/bin/R CMD build --keep-empty-dirs --no-resave-data widgetTools StartedAt: 2025-02-10 07:48:06 -0500 (Mon, 10 Feb 2025) EndedAt: 2025-02-10 07:48:12 -0500 (Mon, 10 Feb 2025) EllapsedTime: 6.0 seconds RetCode: 0 Status: OK PackageFile: widgetTools_1.85.0.tar.gz PackageFileSize: 227.4 KiB