Package: AnnotationForge Version: 1.49.0 Command: /home/rapidbuild/bbs-3.21-bioc-rapid/R/bin/R CMD build --keep-empty-dirs --no-resave-data AnnotationForge StartedAt: 2025-02-10 06:33:16 -0500 (Mon, 10 Feb 2025) EndedAt: 2025-02-10 06:35:39 -0500 (Mon, 10 Feb 2025) EllapsedTime: 143.1 seconds RetCode: 0 Status: OK PackageFile: AnnotationForge_1.49.0.tar.gz PackageFileSize: 3.838 MiB