Package: AnnotationForge Version: 1.49.0 Command: /home/rapidbuild/bbs-3.21-bioc-rapid/R/bin/R CMD INSTALL AnnotationForge StartedAt: 2025-02-10 06:21:33 -0500 (Mon, 10 Feb 2025) EndedAt: 2025-02-10 06:21:48 -0500 (Mon, 10 Feb 2025) EllapsedTime: 15.7 seconds RetCode: 0 Status: OK