Package: ChemmineOB Version: 1.45.0 Command: /home/rapidbuild/bbs-3.21-bioc-rapid/R/bin/R CMD INSTALL ChemmineOB StartedAt: 2025-02-10 06:10:16 -0500 (Mon, 10 Feb 2025) EndedAt: 2025-02-10 06:11:46 -0500 (Mon, 10 Feb 2025) EllapsedTime: 90.9 seconds RetCode: 0 Status: OK