Package: ComplexHeatmap Version: 2.23.0 Command: /home/rapidbuild/bbs-3.21-bioc-rapid/R/bin/R CMD build --keep-empty-dirs --no-resave-data ComplexHeatmap StartedAt: 2025-02-10 06:42:52 -0500 (Mon, 10 Feb 2025) EndedAt: 2025-02-10 06:43:15 -0500 (Mon, 10 Feb 2025) EllapsedTime: 23.3 seconds RetCode: 0 Status: OK PackageFile: ComplexHeatmap_2.23.0.tar.gz PackageFileSize: 1.393 MiB