Package: ComplexHeatmap Version: 2.23.0 Command: /home/rapidbuild/bbs-3.21-bioc-rapid/R/bin/R CMD check --install=check:ComplexHeatmap.install-out.txt --library=/home/rapidbuild/bbs-3.21-bioc-rapid/R/site-library --timings ComplexHeatmap_2.23.0.tar.gz StartedAt: 2025-02-10 08:20:01 -0500 (Mon, 10 Feb 2025) EndedAt: 2025-02-10 08:23:51 -0500 (Mon, 10 Feb 2025) EllapsedTime: 229.7 seconds RetCode: 0 Status: OK CheckDir: ComplexHeatmap.Rcheck Warnings: 0