Package: DOSE Version: 4.1.0 Command: /home/rapidbuild/bbs-3.21-bioc-rapid/R/bin/R CMD build --keep-empty-dirs --no-resave-data DOSE StartedAt: 2025-02-10 06:48:14 -0500 (Mon, 10 Feb 2025) EndedAt: 2025-02-10 06:48:40 -0500 (Mon, 10 Feb 2025) EllapsedTime: 26.3 seconds RetCode: 0 Status: OK PackageFile: DOSE_4.1.0.tar.gz PackageFileSize: 5.479 MiB