Package: DOSE Version: 4.1.0 Command: /home/rapidbuild/bbs-3.21-bioc-rapid/R/bin/R CMD INSTALL DOSE StartedAt: 2025-02-10 06:27:36 -0500 (Mon, 10 Feb 2025) EndedAt: 2025-02-10 06:27:56 -0500 (Mon, 10 Feb 2025) EllapsedTime: 19.8 seconds RetCode: 0 Status: OK