Package: ExperimentHubData Version: 1.33.0 Command: /home/rapidbuild/bbs-3.21-bioc-rapid/R/bin/R CMD build --keep-empty-dirs --no-resave-data ExperimentHubData StartedAt: 2025-02-04 12:45:27 -0500 (Tue, 04 Feb 2025) EndedAt: 2025-02-04 12:46:04 -0500 (Tue, 04 Feb 2025) EllapsedTime: 37.0 seconds RetCode: 0 Status: OK PackageFile: ExperimentHubData_1.33.0.tar.gz PackageFileSize: 223 KiB