Package: ExperimentHubData Version: 1.33.0 Command: /home/rapidbuild/bbs-3.21-bioc-rapid/R/bin/R CMD INSTALL ExperimentHubData StartedAt: 2025-02-10 06:27:54 -0500 (Mon, 10 Feb 2025) EndedAt: 2025-02-10 06:28:30 -0500 (Mon, 10 Feb 2025) EllapsedTime: 36.1 seconds RetCode: 0 Status: OK