Package: GenomeInfoDb Version: 1.43.4 Command: /home/rapidbuild/bbs-3.21-bioc-rapid/R/bin/R CMD build --keep-empty-dirs --no-resave-data GenomeInfoDb StartedAt: 2025-02-10 06:59:02 -0500 (Mon, 10 Feb 2025) EndedAt: 2025-02-10 06:59:55 -0500 (Mon, 10 Feb 2025) EllapsedTime: 52.6 seconds RetCode: 0 Status: OK PackageFile: GenomeInfoDb_1.43.4.tar.gz PackageFileSize: 3.419 MiB