Package: GenomeInfoDb Version: 1.43.4 Command: /home/rapidbuild/bbs-3.21-bioc-rapid/R/bin/R CMD check --install=check:GenomeInfoDb.install-out.txt --library=/home/rapidbuild/bbs-3.21-bioc-rapid/R/site-library --timings GenomeInfoDb_1.43.4.tar.gz StartedAt: 2025-02-10 08:45:55 -0500 (Mon, 10 Feb 2025) EndedAt: 2025-02-10 08:53:56 -0500 (Mon, 10 Feb 2025) EllapsedTime: 481.6 seconds RetCode: 0 Status: OK CheckDir: GenomeInfoDb.Rcheck Warnings: 0