Package: GenomeInfoDb Version: 1.43.4 Command: /home/rapidbuild/bbs-3.21-bioc-rapid/R/bin/R CMD INSTALL GenomeInfoDb StartedAt: 2025-02-10 06:17:55 -0500 (Mon, 10 Feb 2025) EndedAt: 2025-02-10 06:18:04 -0500 (Mon, 10 Feb 2025) EllapsedTime: 9.2 seconds RetCode: 0 Status: OK