Package: MsBackendSql Version: 1.7.3 Command: /home/rapidbuild/bbs-3.21-bioc-rapid/R/bin/R CMD INSTALL MsBackendSql StartedAt: 2025-02-13 12:15:58 -0500 (Thu, 13 Feb 2025) EndedAt: 2025-02-13 12:16:09 -0500 (Thu, 13 Feb 2025) EllapsedTime: 11.0 seconds RetCode: 0 Status: OK