Package: MultiAssayExperiment Version: 1.33.9 Command: /home/rapidbuild/bbs-3.21-bioc-rapid/R/bin/R CMD build --keep-empty-dirs --no-resave-data MultiAssayExperiment StartedAt: 2025-02-13 13:10:38 -0500 (Thu, 13 Feb 2025) EndedAt: 2025-02-13 13:11:28 -0500 (Thu, 13 Feb 2025) EllapsedTime: 50.0 seconds RetCode: 0 Status: OK PackageFile: MultiAssayExperiment_1.33.9.tar.gz PackageFileSize: 1.168 MiB